BEGIN:VCALENDAR
VERSION:2.0
PRODID:-//Department Of Education//f958ca81-45d7-4033-9eed-e8787c768054
BEGIN:VTIMEZONE
TZID:Australia/Sydney
TZURL:http://tzurl.org/zoneinfo-outlook/Australia/Sydney
X-LIC-LOCATION:Australia/Sydney
BEGIN:STANDARD
TZOFFSETFROM:+1100
TZOFFSETTO:+1000
TZNAME:AEST
DTSTART:19700405T030000
RRULE:FREQ=YEARLY;BYMONTH=4;BYDAY=1SU
END:STANDARD
BEGIN:DAYLIGHT
TZOFFSETFROM:+1000
TZOFFSETTO:+1100
TZNAME:AEDT
DTSTART:19701004T020000
RRULE:FREQ=YEARLY;BYMONTH=10;BYDAY=1SU
END:DAYLIGHT
END:VTIMEZONE
CALSCALE:GREGORIAN
X-WR-TIMEZONE:Australia/Sydney
BEGIN:VEVENT
DTSTART;VALUE=DATE:20210303
DTEND;VALUE=DATE:20210306
DTSTAMP:20210303T000000Z
UID:cbfe55d0-f534-4d7b-9cc8-9544d010bfb2
LOCATION:Mt Kosciuzko National Park
SUMMARY;LANGUAGE=en-us:Mt Kosciuszko Excursion
SEQUENCE:0
DESCRIPTION:Senior Geography and Earth & Environmental Science students to complete Mt Koscuiszko summit walk.
END:VEVENT
TRANSP:TRANSPARENT
END:VCALENDAR
